BEGIN:VCALENDAR
PRODID:-//eluceo/ical//2.0/EN
VERSION:2.0
CALSCALE:GREGORIAN
BEGIN:VEVENT
UID:5799ce28c2d407f8eedde51d230c33e5
DTSTAMP:20260423T184031Z
SUMMARY:Entdecke das Sonnensystem
DESCRIPTION:Eine Reise durch das gesamte Sonnensystem mit Erkundung der Pla
 neten Merkur bis Neptun. Ebenso lernt man Zwergplaneten\, Kleinplaneten un
 d Kometen kennen und welche Gefahren von diesen kleinen Himmelskörpern au
 sgehen können.
URL:https://www.meinplaner.com
DTSTART;TZID=Europe/Amsterdam:20260516T173000
DTEND;TZID=Europe/Amsterdam:20260516T193000
LOCATION:Milchstr. 1\, 09430 Drebach
BEGIN:VALARM
ACTION:DISPLAY
DESCRIPTION:Erinnerung: Entdecke das Sonnensystem beginnt in 1 Stunde
TRIGGER;RELATED=END:-PT1H
END:VALARM
END:VEVENT
END:VCALENDAR
