BEGIN:VCALENDAR
PRODID:-//eluceo/ical//2.0/EN
VERSION:2.0
CALSCALE:GREGORIAN
BEGIN:VEVENT
UID:2506023cad14cc44b15e79d25c61bf7b
DTSTAMP:20260422T001607Z
SUMMARY:Charmant\, mediterran\, familiär
DESCRIPTION:Die charmante Pizzeria Adria in Chemnitz begeistert mit herzlic
 her Gastfreundschaft\, authentischer italienischer Küche und mediterranem
  Flair\, das mit traditionellen Rezepten und gemütlichem Ambiente für ei
 n Stück Italien in Chemnitz sorgt.
URL:https://www.meinplaner.com
DTSTART;TZID=Europe/Amsterdam:20260422T173000
DTEND;TZID=Europe/Amsterdam:20260422T220000
LOCATION:Schiersandstr. 32\, 09116 Chemnitz
BEGIN:VALARM
ACTION:DISPLAY
DESCRIPTION:Erinnerung: Charmant\, mediterran\, familiär beginnt in 1 Stun
 de
TRIGGER;RELATED=END:-PT1H
END:VALARM
END:VEVENT
BEGIN:VEVENT
UID:779efe58001f1ecb3d6dc476a986fded
DTSTAMP:20260422T001607Z
SUMMARY:Charmant\, mediterran\, familiär
DESCRIPTION:Die charmante Pizzeria Adria in Chemnitz begeistert mit herzlic
 her Gastfreundschaft\, authentischer italienischer Küche und mediterranem
  Flair\, das mit traditionellen Rezepten und gemütlichem Ambiente für ei
 n Stück Italien in Chemnitz sorgt.
URL:https://www.meinplaner.com
DTSTART;TZID=Europe/Amsterdam:20260422T113000
DTEND;TZID=Europe/Amsterdam:20260422T140000
LOCATION:Schiersandstr. 32\, 09116 Chemnitz
BEGIN:VALARM
ACTION:DISPLAY
DESCRIPTION:Erinnerung: Charmant\, mediterran\, familiär beginnt in 1 Stun
 de
TRIGGER;RELATED=END:-PT1H
END:VALARM
END:VEVENT
END:VCALENDAR
