BEGIN:VCALENDAR
PRODID:-//eluceo/ical//2.0/EN
VERSION:2.0
CALSCALE:GREGORIAN
BEGIN:VEVENT
UID:ef335301f001d6ec36a0cb4489839449
DTSTAMP:20260424T135318Z
SUMMARY:Between Heroes
DESCRIPTION:Die Ausstellung beleuchtet Figuren wie Fürst Pückler\, Karl M
 ay und Karl Stülpner zwischen Geschichte und Legende. Im Fokus stehen ihr
 e Wirkung als kulturelle Projektionsflächen und ihre Bedeutung für Sehns
 ucht\, Abenteuer und Selbstentwürfe.
URL:https://www.meinplaner.com
DTSTART;TZID=Europe/Amsterdam:20260426T100000
DTEND;TZID=Europe/Amsterdam:20260426T190000
LOCATION:Himmelmühle 12\, 09488 Thermalbad Wiesenbad
BEGIN:VALARM
ACTION:DISPLAY
DESCRIPTION:Erinnerung: Between Heroes beginnt in 1 Stunde
TRIGGER;RELATED=END:-PT1H
END:VALARM
END:VEVENT
END:VCALENDAR
