BEGIN:VCALENDAR
PRODID:-//eluceo/ical//2.0/EN
VERSION:2.0
CALSCALE:GREGORIAN
BEGIN:VEVENT
UID:990595b52493e18fc422fe4479334b59
DTSTAMP:20260424T070311Z
SUMMARY:Oldtimertreffen
DESCRIPTION:Oldtimertreffen für Klassiker aller Marken – von Audi bis Za
 stava\, vom Trabant bis zum Käfer. Willkommen sind Fahrzeuge mit Geschich
 te\, Charme und Charakter.
URL:https://www.meinplaner.com
DTSTART;TZID=Europe/Amsterdam:20260530T100000
DTEND;TZID=Europe/Amsterdam:20260530T170000
LOCATION:Tierparkstr. 2\, 09212 Limbach-Oberfrohna
BEGIN:VALARM
ACTION:DISPLAY
DESCRIPTION:Erinnerung: Oldtimertreffen beginnt in 1 Stunde
TRIGGER;RELATED=END:-PT1H
END:VALARM
END:VEVENT
END:VCALENDAR
