BEGIN:VCALENDAR
PRODID:-//eluceo/ical//2.0/EN
VERSION:2.0
CALSCALE:GREGORIAN
BEGIN:VEVENT
UID:bdc437212939d9155c30144a5a6cd7cd
DTSTAMP:20260424T072536Z
SUMMARY:morePlatz: EUROPA
DESCRIPTION:Die Lichtinstallation „EUROPA“ von morePlatz setzt mit 33 N
 eonröhren ein leuchtendes Zeichen für Zusammenhalt und gemeinsame Werte.
  Seit 2019 dauerhaft am Chemnitzer Wirkbau installiert\, steht sie als Sym
 bol für eine starke europäische Identität.
URL:https://www.meinplaner.com
DTSTART;TZID=Europe/Amsterdam:20260424T120000
DTEND;TZID=Europe/Amsterdam:20260424T180000
LOCATION:Annaberger Str. 73\, 09111 Chemnitz
BEGIN:VALARM
ACTION:DISPLAY
DESCRIPTION:Erinnerung: morePlatz: EUROPA beginnt in 1 Stunde
TRIGGER;RELATED=END:-PT1H
END:VALARM
END:VEVENT
END:VCALENDAR
