BEGIN:VCALENDAR
PRODID:-//eluceo/ical//2.0/EN
VERSION:2.0
CALSCALE:GREGORIAN
BEGIN:VEVENT
UID:b3e815c2e11e2629b105e479eac5b7a0
DTSTAMP:20260421T215057Z
SUMMARY:Südamerikanischer Lifestyle
DESCRIPTION:Südamerika hat in Chemnitz Platz auf drei Etagen und einer gro
 ßen\, zu allen Jahreszeiten einladenden Außenfläche. Das Brazil bietet 
 exotisches Flair mit saftig gegrillten Steaks\, Fisch vom Grill\, Premium 
 Burger\, frische Salate\, karibische Desserts und Drinks. 
URL:https://www.meinplaner.com
DTSTART;TZID=Europe/Amsterdam:20260421T110000
DTEND;TZID=Europe/Amsterdam:20260421T230000
LOCATION:Innere Klosterstr. 10\, 09111 Chemnitz
BEGIN:VALARM
ACTION:DISPLAY
DESCRIPTION:Erinnerung: Südamerikanischer Lifestyle beginnt in 1 Stunde
TRIGGER;RELATED=END:-PT1H
END:VALARM
END:VEVENT
END:VCALENDAR
