BEGIN:VCALENDAR
PRODID:-//eluceo/ical//2.0/EN
VERSION:2.0
CALSCALE:GREGORIAN
BEGIN:VEVENT
UID:cacc0453fad63914e2310bfdc06123fb
DTSTAMP:20260424T072117Z
SUMMARY:Bühne im Kleinen. Das Figurentheater Chemnitz im Wandel der Zeit
DESCRIPTION:Zum 75-jährigen Jubiläum zeigt die Ausstellung die Geschichte
  des Figurentheaters – von den Anfängen bis heute. Zu sehen sind Puppen
 \, Entwürfe und spannende Einblicke in die Entwicklung dieses besonderen 
 Genres. 🎭
URL:https://www.meinplaner.com
DTSTART;TZID=Europe/Amsterdam:20260424T090000
DTEND;TZID=Europe/Amsterdam:20260424T190000
LOCATION:Str. der Nationen 33\, 09111 Chemnitz
BEGIN:VALARM
ACTION:DISPLAY
DESCRIPTION:Erinnerung: Bühne im Kleinen. Das Figurentheater Chemnitz im W
 andel der Zeit beginnt in 1 Stunde
TRIGGER;RELATED=END:-PT1H
END:VALARM
END:VEVENT
END:VCALENDAR
