BEGIN:VCALENDAR
PRODID:-//eluceo/ical//2.0/EN
VERSION:2.0
CALSCALE:GREGORIAN
BEGIN:VEVENT
UID:6f235c66b2347b8128c4043592610577
DTSTAMP:20260425T231556Z
SUMMARY:Café Sweet Sophie - fürstlich genießen
DESCRIPTION:In einem einzigarten Ambiente in historischer Umgebung lädt da
 s kleine Café ein. Wo Adelige verweilten\, gibt es heute Kaffee & Kuchen\
 , Eisspezialitäten und auch kleine herzhafte Köstlichkeiten. Samstags un
 d Sonntags wird ein „fürstliches“ Frühstück serviert.
URL:https://www.meinplaner.com
DTSTART;TZID=Europe/Amsterdam:20260426T090000
DTEND;TZID=Europe/Amsterdam:20260426T170000
LOCATION:Peniger Str. 10\, 08396 Waldenburg
BEGIN:VALARM
ACTION:DISPLAY
DESCRIPTION:Erinnerung: Café Sweet Sophie - fürstlich genießen beginnt i
 n 1 Stunde
TRIGGER;RELATED=END:-PT1H
END:VALARM
END:VEVENT
END:VCALENDAR
