BEGIN:VCALENDAR
PRODID:-//eluceo/ical//2.0/EN
VERSION:2.0
CALSCALE:GREGORIAN
BEGIN:VEVENT
UID:b1097ffff7f9456ada23d82136d19e1d
DTSTAMP:20260421T191745Z
SUMMARY:Ruhe\, Komfort\, Auszeit
DESCRIPTION:Eintauchen in pure Ruhe und Entspannung – eine großzügige F
 erienwohnung auf 90 qm bietet den perfekten Rückzugsort. Zwei gemütliche
  Schlafzimmer\, eine voll ausgestattete Küche und ein großes Sofa für e
 inen fünften Gast laden zum Verweilen und Genießen ein.
URL:https://www.meinplaner.com
DTSTART;TZID=Europe/Amsterdam:20260422T100000
DTEND;TZID=Europe/Amsterdam:20260422T180000
LOCATION:Niedermülsener Hauptstr. 88\, 08132 Mülsen
BEGIN:VALARM
ACTION:DISPLAY
DESCRIPTION:Erinnerung: Ruhe\, Komfort\, Auszeit beginnt in 1 Stunde
TRIGGER;RELATED=END:-PT1H
END:VALARM
END:VEVENT
END:VCALENDAR
