BEGIN:VCALENDAR
PRODID:-//eluceo/ical//2.0/EN
VERSION:2.0
CALSCALE:GREGORIAN
BEGIN:VEVENT
UID:2a57f23a9572f68293ce283e2b4cf817
DTSTAMP:20260422T102913Z
SUMMARY:Crash Kurs - Schwimmen lernen (tägliches Training)
DESCRIPTION:Crash-Schwimmkurs für Kinder ab 6 Jahren: 11 Einheiten à 45 M
 inuten in zwei Wochen. Tägliches Training fördert Sicherheit\, Ausdauer 
 und Technik im Wasser. Wahlweise am frühen oder späteren Nachmittag – 
 spielerisch\, intensiv und wirkungsvoll.
URL:https://www.meinplaner.com
DTSTART;TZID=Europe/Amsterdam:20260803T143000
DTEND;TZID=Europe/Amsterdam:20260803T163000
LOCATION:Kellerwiese 1\, 09212 Limbach-Oberfrohna
BEGIN:VALARM
ACTION:DISPLAY
DESCRIPTION:Erinnerung: Crash Kurs - Schwimmen lernen (tägliches Training)
  beginnt in 1 Stunde
TRIGGER;RELATED=END:-PT1H
END:VALARM
END:VEVENT
END:VCALENDAR
