BEGIN:VCALENDAR
PRODID:-//eluceo/ical//2.0/EN
VERSION:2.0
CALSCALE:GREGORIAN
BEGIN:VEVENT
UID:7b2d8a69cae9e0bde80c2a9df0054871
DTSTAMP:20260420T150112Z
SUMMARY:Lee Cronin‘s The Mummy
DESCRIPTION:Das scheinbar perfekte Familienglück von Charlie und seiner Fr
 au wird auf die Probe gestellt\, als ihre Tochter Katie nach einem mysteri
 ösen Fluch verschwindet\, nur um Jahre später mit einer dunklen Macht zu
 rückzukehren und die Familie in Gefahr zu bringen.
URL:https://www.meinplaner.com
DTSTART;TZID=Europe/Amsterdam:20260420T194000
DTEND;TZID=Europe/Amsterdam:20260420T214000
LOCATION:Poetenweg 6-8\, 08056 Zwickau
BEGIN:VALARM
ACTION:DISPLAY
DESCRIPTION:Erinnerung: Lee Cronin‘s The Mummy beginnt in 1 Stunde
TRIGGER;RELATED=END:-PT1H
END:VALARM
END:VEVENT
BEGIN:VEVENT
UID:0fec40973d8bc4bfe3f1f2cd35e4daf2
DTSTAMP:20260420T150112Z
SUMMARY:Lee Cronin‘s The Mummy
DESCRIPTION:Das scheinbar perfekte Familienglück von Charlie und seiner Fr
 au wird auf die Probe gestellt\, als ihre Tochter Katie nach einem mysteri
 ösen Fluch verschwindet\, nur um Jahre später mit einer dunklen Macht zu
 rückzukehren und die Familie in Gefahr zu bringen.
URL:https://www.meinplaner.com
DTSTART;TZID=Europe/Amsterdam:20260420T170000
DTEND;TZID=Europe/Amsterdam:20260420T190000
LOCATION:Poetenweg 6-8\, 08056 Zwickau
BEGIN:VALARM
ACTION:DISPLAY
DESCRIPTION:Erinnerung: Lee Cronin‘s The Mummy beginnt in 1 Stunde
TRIGGER;RELATED=END:-PT1H
END:VALARM
END:VEVENT
END:VCALENDAR
