BEGIN:VCALENDAR
PRODID:-//eluceo/ical//2.0/EN
VERSION:2.0
CALSCALE:GREGORIAN
BEGIN:VEVENT
UID:32555d6ebf68ad83b6818f59d166a497
DTSTAMP:20260421T071816Z
SUMMARY:Fashion Revolution Week
DESCRIPTION:In Chemnitz findet die Fashion Revolution Week statt. Alle\, di
 e sich für fairen und nachhaltigen Kleidungskonsum interessieren oder ein
 fach neugierig sind\, können teilnehmen. Geplant sind Kleidertausch\, Vor
 träge und Diskussionen.
URL:https://www.meinplaner.com
DTSTART;TZID=Europe/Amsterdam:20260421T160000
DTEND;TZID=Europe/Amsterdam:20260421T190000
LOCATION:Markusstr. 21\, 09130 Chemnitz
BEGIN:VALARM
ACTION:DISPLAY
DESCRIPTION:Erinnerung: Fashion Revolution Week beginnt in 1 Stunde
TRIGGER;RELATED=END:-PT1H
END:VALARM
END:VEVENT
END:VCALENDAR
