BEGIN:VCALENDAR
PRODID:-//eluceo/ical//2.0/EN
VERSION:2.0
CALSCALE:GREGORIAN
BEGIN:VEVENT
UID:367022e09b9e8007b38f8f120a91dcbf
DTSTAMP:20260423T081106Z
SUMMARY:Pfingstwochenende 
DESCRIPTION:Das lange Wochenende lädt zu gemeinsamen Erlebnissen ein: Ein 
 großer Wildpark\, zahlreiche Attraktionen und weitläufige Grünanlagen b
 ieten Abwechslung für die ganze Familie. Ob Toben\, Entdecken oder Entspa
 nnen – hier kommt jeder auf seine Kosten.
URL:https://www.meinplaner.com
DTSTART;TZID=Europe/Amsterdam:20260524T100000
DTEND;TZID=Europe/Amsterdam:20260524T180000
LOCATION:Zum Sonnenlandpark 1\, 09244 Lichtenau
BEGIN:VALARM
ACTION:DISPLAY
DESCRIPTION:Erinnerung: Pfingstwochenende  beginnt in 1 Stunde
TRIGGER;RELATED=END:-PT1H
END:VALARM
END:VEVENT
END:VCALENDAR
