BEGIN:VCALENDAR
PRODID:-//eluceo/ical//2.0/EN
VERSION:2.0
CALSCALE:GREGORIAN
BEGIN:VEVENT
UID:f7d6d789822680ab1741adf20a6f781d
DTSTAMP:20260423T093242Z
SUMMARY:Vortrag und Diskussion mit dem Beauftragten der Sächsischen Staats
 regierung für das jüdische Leben\, Dr. Thomas Feist
DESCRIPTION:Dr. Thomas Feist spricht über seine Arbeit als Beauftragter f
 ür jüdisches Leben in Sachsen. Im Mittelpunkt stehen Antisemitismus\, Er
 innerungskultur sowie Perspektiven für ein vielfältiges jüdisches Leben
  und der Austausch mit dem Publikum.
URL:https://www.meinplaner.com
DTSTART;TZID=Europe/Amsterdam:20260506T160000
DTEND;TZID=Europe/Amsterdam:20260506T180000
LOCATION:Str. der Nationen 33\, 09111 Chemnitz
BEGIN:VALARM
ACTION:DISPLAY
DESCRIPTION:Erinnerung: Vortrag und Diskussion mit dem Beauftragten der Sä
 chsischen Staatsregierung für das jüdische Leben\, Dr. Thomas Feist begi
 nnt in 1 Stunde
TRIGGER;RELATED=END:-PT1H
END:VALARM
END:VEVENT
END:VCALENDAR
