BEGIN:VCALENDAR
PRODID:-//eluceo/ical//2.0/EN
VERSION:2.0
CALSCALE:GREGORIAN
BEGIN:VEVENT
UID:ba8c57bb790655e26efe7a49d81fd3aa
DTSTAMP:20260423T063251Z
SUMMARY:Kreativangebot Makramee - Mikromakramee
DESCRIPTION:Im kreativen Angebot "Makramee - Mikromakramee" unter Anleitung
  von Frau Schlegel kann jeder das Knüpfen individueller Armbänder im Kre
 uz- oder Spiralknoten erlernen.
URL:https://www.meinplaner.com
DTSTART;TZID=Europe/Amsterdam:20260511T183000
DTEND;TZID=Europe/Amsterdam:20260511T203000
LOCATION:Freiberger Str. 33\, 09488 Thermalbad Wiesenbad
BEGIN:VALARM
ACTION:DISPLAY
DESCRIPTION:Erinnerung: Kreativangebot Makramee - Mikromakramee beginnt in 
 1 Stunde
TRIGGER;RELATED=END:-PT1H
END:VALARM
END:VEVENT
END:VCALENDAR
