BEGIN:VCALENDAR
PRODID:-//eluceo/ical//2.0/EN
VERSION:2.0
CALSCALE:GREGORIAN
BEGIN:VEVENT
UID:fde3322f817790d3ec3a809ad5731cbf
DTSTAMP:20260425T154513Z
SUMMARY:Schätze Deine(r) Heimat - Kunsthandwerk trifft Bildende Kunst
DESCRIPTION:Im Erzgebirge vereinen sich Kunsthandwerk und Bildende Kunst\, 
 wo Künstler seit Jahrhunderten eindrucksvolle Landschaften festhalten und
  regionale Schätze präsentieren\, während das traditionsreiche Kunsthan
 dwerk als Immaterielles Kulturerbe anerkannt ist.
URL:https://www.meinplaner.com
DTSTART;TZID=Europe/Amsterdam:20260425T130000
DTEND;TZID=Europe/Amsterdam:20260425T170000
LOCATION:Ratsseite-Dorfstr. 112\, 09496 Marienberg
BEGIN:VALARM
ACTION:DISPLAY
DESCRIPTION:Erinnerung: Schätze Deine(r) Heimat - Kunsthandwerk trifft Bil
 dende Kunst beginnt in 1 Stunde
TRIGGER;RELATED=END:-PT1H
END:VALARM
END:VEVENT
END:VCALENDAR
