BEGIN:VCALENDAR
PRODID:-//eluceo/ical//2.0/EN
VERSION:2.0
CALSCALE:GREGORIAN
BEGIN:VEVENT
UID:b87058a70398d06f40a73a3f0cbe3e1a
DTSTAMP:20260425T203340Z
SUMMARY:Touristikführung 
DESCRIPTION:Der Rundgang bietet spannende Einblicke in die Bergbaugeschicht
 e mit Vorführungen originaler Gerätschaften an authentischen Schauorten.
  Er zeigt den Alltag der Bergleute zu DDR-Zeiten und schließt mit einer e
 indrucksvollen Grubenbahnfahrt ab.
URL:https://www.meinplaner.com
DTSTART;TZID=Europe/Amsterdam:20260426T130000
DTEND;TZID=Europe/Amsterdam:20260426T143000
LOCATION:Am Sauberg 1\, 09427 Ehrenfriedersdorf
BEGIN:VALARM
ACTION:DISPLAY
DESCRIPTION:Erinnerung: Touristikführung  beginnt in 1 Stunde
TRIGGER;RELATED=END:-PT1H
END:VALARM
END:VEVENT
BEGIN:VEVENT
UID:573105f620229fc3d83fea74538f60f2
DTSTAMP:20260425T203340Z
SUMMARY:Touristikführung 
DESCRIPTION:Der Rundgang bietet spannende Einblicke in die Bergbaugeschicht
 e mit Vorführungen originaler Gerätschaften an authentischen Schauorten.
  Er zeigt den Alltag der Bergleute zu DDR-Zeiten und schließt mit einer e
 indrucksvollen Grubenbahnfahrt ab.
URL:https://www.meinplaner.com
DTSTART;TZID=Europe/Amsterdam:20260426T150000
DTEND;TZID=Europe/Amsterdam:20260426T163000
LOCATION:Am Sauberg 1\, 09427 Ehrenfriedersdorf
BEGIN:VALARM
ACTION:DISPLAY
DESCRIPTION:Erinnerung: Touristikführung  beginnt in 1 Stunde
TRIGGER;RELATED=END:-PT1H
END:VALARM
END:VEVENT
END:VCALENDAR
