BEGIN:VCALENDAR
PRODID:-//eluceo/ical//2.0/EN
VERSION:2.0
CALSCALE:GREGORIAN
BEGIN:VEVENT
UID:d0ddab51e9aff89a3076c2161aa264e2
DTSTAMP:20260420T200200Z
SUMMARY:Öffentliche Führung
DESCRIPTION:Eine unterhaltsame und informative Führung erzählt über 115 
 Jahre Zwickauer Automobilbaugeschichte. Die öffentliche Führung beinhalt
 et auch die Vorführung des Motorenprüfstandes. Hohe Nachfrage: Frühes K
 ommen wird empfohlen!
URL:https://www.meinplaner.com
DTSTART;TZID=Europe/Amsterdam:20260426T133000
DTEND;TZID=Europe/Amsterdam:20260426T160000
LOCATION:Audistr. 7\, 08058 Zwickau
BEGIN:VALARM
ACTION:DISPLAY
DESCRIPTION:Erinnerung: Öffentliche Führung beginnt in 1 Stunde
TRIGGER;RELATED=END:-PT1H
END:VALARM
END:VEVENT
END:VCALENDAR
