BEGIN:VCALENDAR
PRODID:-//eluceo/ical//2.0/EN
VERSION:2.0
CALSCALE:GREGORIAN
BEGIN:VEVENT
UID:7e5d5460ac80fd302b54a5f57882901e
DTSTAMP:20260423T203520Z
SUMMARY:Dreiseitenhof "Zum Weihrichkarzl"
DESCRIPTION:Ein liebevoll restaurierter Dreiseitenhof mit dem Restaurant 
 „Leffelstub“ & der „Eisstub“ hat sich als Anlaufpunkt für „Karz
 l-Fans“ etabliert. Hier werden Räucherkerzchen wie zu Großvaters-Zeite
 n hergestellt. Gäste erfahren Wissenswertes rund um‘s „Karzl“. 
URL:https://www.meinplaner.com
DTSTART;TZID=Europe/Amsterdam:20260424T110000
DTEND;TZID=Europe/Amsterdam:20260424T170000
LOCATION:Karlsbader Straße 189\, 09465 Sehmatal
BEGIN:VALARM
ACTION:DISPLAY
DESCRIPTION:Erinnerung: Dreiseitenhof "Zum Weihrichkarzl" beginnt in 1 Stun
 de
TRIGGER;RELATED=END:-PT1H
END:VALARM
END:VEVENT
END:VCALENDAR
