BEGIN:VCALENDAR
PRODID:-//eluceo/ical//2.0/EN
VERSION:2.0
CALSCALE:GREGORIAN
BEGIN:VEVENT
UID:697fdc6792a6862cb0f759d5375e241f
DTSTAMP:20260424T193550Z
SUMMARY:Rossini das Menü 2026
DESCRIPTION:Im Ristorante Di Sopra steht traditionelle italienische Küche 
 im Mittelpunkt. Das Menü überzeugt mit einer feinen Vorspeise aus Seesai
 bling\, einem zarten Black-Angus-Rückensteak als Hauptgang und einem kös
 tlichen Dessert.
URL:https://www.meinplaner.com
DTSTART;TZID=Europe/Amsterdam:20260424T113000
DTEND;TZID=Europe/Amsterdam:20260424T143000
LOCATION:Düsseldorfer Platz 1\, 09111 Chemnitz
BEGIN:VALARM
ACTION:DISPLAY
DESCRIPTION:Erinnerung: Rossini das Menü 2026 beginnt in 1 Stunde
TRIGGER;RELATED=END:-PT1H
END:VALARM
END:VEVENT
BEGIN:VEVENT
UID:84fefff989d6497b783968dfa98e2f46
DTSTAMP:20260424T193550Z
SUMMARY:Rossini das Menü 2026
DESCRIPTION:Im Ristorante Di Sopra steht traditionelle italienische Küche 
 im Mittelpunkt. Das Menü überzeugt mit einer feinen Vorspeise aus Seesai
 bling\, einem zarten Black-Angus-Rückensteak als Hauptgang und einem kös
 tlichen Dessert.
URL:https://www.meinplaner.com
DTSTART;TZID=Europe/Amsterdam:20260424T173000
DTEND;TZID=Europe/Amsterdam:20260424T223000
LOCATION:Düsseldorfer Platz 1\, 09111 Chemnitz
BEGIN:VALARM
ACTION:DISPLAY
DESCRIPTION:Erinnerung: Rossini das Menü 2026 beginnt in 1 Stunde
TRIGGER;RELATED=END:-PT1H
END:VALARM
END:VEVENT
END:VCALENDAR
