BEGIN:VCALENDAR
PRODID:-//eluceo/ical//2.0/EN
VERSION:2.0
CALSCALE:GREGORIAN
BEGIN:VEVENT
UID:307febaec52d8610893bf88bcee06c98
DTSTAMP:20260420T154123Z
SUMMARY:Rummelplatz
DESCRIPTION:Werner Bräunig\, in Chemnitz geboren\, porträtiert die wilden
  Wismut-Anfangsjahre und die Widersprüche der Epoche. Seine Protagonisten
  suchen einen Platz in der Welt\, geraten in Verantwortung und in Konflikt
 e und entwickeln sich fort. Für die Oper adaptiert.
URL:https://www.meinplaner.com
DTSTART;TZID=Europe/Amsterdam:20260512T193000
DTEND;TZID=Europe/Amsterdam:20260512T213000
LOCATION:Theaterplatz  2\, 09111 Chemnitz
BEGIN:VALARM
ACTION:DISPLAY
DESCRIPTION:Erinnerung: Rummelplatz beginnt in 1 Stunde
TRIGGER;RELATED=END:-PT1H
END:VALARM
END:VEVENT
END:VCALENDAR
