BEGIN:VCALENDAR
PRODID:-//eluceo/ical//2.0/EN
VERSION:2.0
CALSCALE:GREGORIAN
BEGIN:VEVENT
UID:d1f14648cfa1f24171201fba38eb065e
DTSTAMP:20260422T092225Z
SUMMARY:Abenteuerweg
DESCRIPTION:Der Abenteuerweg ist die Hauptattraktion: Auf dem Weg warten za
 hlreiche Stationen mit Rätseln und Aufgaben. Eingebettet in eine spannend
 e Geschichte wird jede Etappe zum Erlebnis – bis zum großen Finale am E
 nde.
URL:https://www.meinplaner.com
DTSTART;TZID=Europe/Amsterdam:20260509T100000
DTEND;TZID=Europe/Amsterdam:20260509T160000
LOCATION:Vierenstraße 3b\, 09484 Oberwiesenthal
BEGIN:VALARM
ACTION:DISPLAY
DESCRIPTION:Erinnerung: Abenteuerweg beginnt in 1 Stunde
TRIGGER;RELATED=END:-PT1H
END:VALARM
END:VEVENT
END:VCALENDAR
