BEGIN:VCALENDAR
PRODID:-//eluceo/ical//2.0/EN
VERSION:2.0
CALSCALE:GREGORIAN
BEGIN:VEVENT
UID:080bc3acbc551530ad15f1673665b083
DTSTAMP:20260422T173032Z
SUMMARY:Italien mitten in Chemnitz mit himmlischen Versuchungen
DESCRIPTION:Italien mitten in Chemnitz! Hier finden Feinschmecker alles\, w
 enn der Gaumen von dem Land träumt\, in dem nicht nur die Zitronen blühe
 n\, sondern wo knusprige Pizza\, hausgemachte Pasta\, himmlische süße Ve
 rsuchungen und erlesene Weine serviert werden.\n
URL:https://www.meinplaner.com
DTSTART;TZID=Europe/Amsterdam:20260422T113000
DTEND;TZID=Europe/Amsterdam:20260422T230000
LOCATION:Rosenhof 4-6\, 09111 Chemnitz
BEGIN:VALARM
ACTION:DISPLAY
DESCRIPTION:Erinnerung: Italien mitten in Chemnitz mit himmlischen Versuchu
 ngen beginnt in 1 Stunde
TRIGGER;RELATED=END:-PT1H
END:VALARM
END:VEVENT
END:VCALENDAR
