BEGIN:VCALENDAR
PRODID:-//eluceo/ical//2.0/EN
VERSION:2.0
CALSCALE:GREGORIAN
BEGIN:VEVENT
UID:63c4e1d95c1c7acbd252bda28d208f52
DTSTAMP:20260424T124621Z
SUMMARY:Jugendkunstschule in Frankenberg
DESCRIPTION:Die JugendKunstSchule bietet seit 2023 musisch-künstlerische B
 ildung in Musik\, Bildender und Darstellender Kunst. Mit professionellen L
 ehrkräften\, Kursen für alle Altersklassen\, Mietinstrumenten und flexib
 len Unterrichtsformen – Anmeldung jederzeit möglich.
URL:https://www.meinplaner.com
DTSTART;TZID=Europe/Amsterdam:20260427T163000
DTEND;TZID=Europe/Amsterdam:20260427T183000
LOCATION:Humboldtstr. 12\, 09669 Frankenberg/Sa.
BEGIN:VALARM
ACTION:DISPLAY
DESCRIPTION:Erinnerung: Jugendkunstschule in Frankenberg beginnt in 1 Stund
 e
TRIGGER;RELATED=END:-PT1H
END:VALARM
END:VEVENT
END:VCALENDAR
