BEGIN:VCALENDAR
PRODID:-//eluceo/ical//2.0/EN
VERSION:2.0
CALSCALE:GREGORIAN
BEGIN:VEVENT
UID:3f159b4811040419060a765bc5d66dc2
DTSTAMP:20260423T015822Z
SUMMARY:Kunsthandwerkermarkt Altzella 
DESCRIPTION:Kunsthandwerker der Region stellen ihre Einzelstücke aus Ton\,
  Holz\, Leinen\, Silber\, Papier oder Glas vor und bieten diese zum Staune
 n und Kauf an. Fast 100 Aussteller und Handwerker der schönen Künste pr
 äsentieren sich und ihre Arbeiten im Klostergelände.
URL:https://www.meinplaner.com
DTSTART;TZID=Europe/Amsterdam:20260822T100000
DTEND;TZID=Europe/Amsterdam:20260822T180000
LOCATION:Zellaer Str. 10\, 01683 Nossen
BEGIN:VALARM
ACTION:DISPLAY
DESCRIPTION:Erinnerung: Kunsthandwerkermarkt Altzella  beginnt in 1 Stunde
TRIGGER;RELATED=END:-PT1H
END:VALARM
END:VEVENT
END:VCALENDAR
