BEGIN:VCALENDAR
PRODID:-//eluceo/ical//2.0/EN
VERSION:2.0
CALSCALE:GREGORIAN
BEGIN:VEVENT
UID:3a616a1a84f7234feeabe103f139a711
DTSTAMP:20260422T011113Z
SUMMARY:Sterntaler
DESCRIPTION:Durch neue 3D Mitmach-Bilder der schönsten Märchen der Gebrü
 der Grimm & Hans Christian Andersens\, Märchen aus 1001 Nacht & weiteren 
 internationalen Märchen werden diese zum Leben erweckt. So kann man in di
 e Märchenwelt eintauchen - als Prinz oder Prinzessin.
URL:https://www.meinplaner.com
DTSTART;TZID=Europe/Amsterdam:20260422T100000
DTEND;TZID=Europe/Amsterdam:20260422T180000
LOCATION:Schlossallee 1\, 09577 Niederwiesa
BEGIN:VALARM
ACTION:DISPLAY
DESCRIPTION:Erinnerung: Sterntaler beginnt in 1 Stunde
TRIGGER;RELATED=END:-PT1H
END:VALARM
END:VEVENT
END:VCALENDAR
