BEGIN:VCALENDAR
PRODID:-//eluceo/ical//2.0/EN
VERSION:2.0
CALSCALE:GREGORIAN
BEGIN:VEVENT
UID:b902f06ae595d80fe65fe416274b088c
DTSTAMP:20260424T202246Z
SUMMARY:Schönherrfabrik - eine kurzweilige Zeitreise
DESCRIPTION:Gästeführerin Karin Meisel lädt zu einer kurzweiligen zweist
 ündigen Zeitreise auf Schönherrs Spuren ein und stellt Historie\, Persö
 nlichkeiten\, Sanierungen und die heutige Nutzung des 500-jährigen Produk
 tionsstandortes vor.
URL:https://www.meinplaner.com
DTSTART;TZID=Europe/Amsterdam:20260503T140000
DTEND;TZID=Europe/Amsterdam:20260503T160000
LOCATION:Schönherrstr. 8\, 09113 Chemnitz
BEGIN:VALARM
ACTION:DISPLAY
DESCRIPTION:Erinnerung: Schönherrfabrik - eine kurzweilige Zeitreise begin
 nt in 1 Stunde
TRIGGER;RELATED=END:-PT1H
END:VALARM
END:VEVENT
BEGIN:VEVENT
UID:cb7de559f7e27c3aaf1d094d51a8a648
DTSTAMP:20260424T202246Z
SUMMARY:Schönherrfabrik - eine kurzweilige Zeitreise
DESCRIPTION:Gästeführerin Karin Meisel lädt zu einer kurzweiligen zweist
 ündigen Zeitreise auf Schönherrs Spuren ein und stellt Historie\, Persö
 nlichkeiten\, Sanierungen und die heutige Nutzung des 500-jährigen Produk
 tionsstandortes vor.
URL:https://www.meinplaner.com
DTSTART;TZID=Europe/Amsterdam:20260503T140000
DTEND;TZID=Europe/Amsterdam:20260503T160000
LOCATION:Schönherrstr. 8\, 09113 Chemnitz
BEGIN:VALARM
ACTION:DISPLAY
DESCRIPTION:Erinnerung: Schönherrfabrik - eine kurzweilige Zeitreise begin
 nt in 1 Stunde
TRIGGER;RELATED=END:-PT1H
END:VALARM
END:VEVENT
END:VCALENDAR
