BEGIN:VCALENDAR
PRODID:-//eluceo/ical//2.0/EN
VERSION:2.0
CALSCALE:GREGORIAN
BEGIN:VEVENT
UID:7e6af8eac99fce2add23d3be5f851d8e
DTSTAMP:20260423T160117Z
SUMMARY:Edelsteine selbst schleifen und polieren
DESCRIPTION:Wie entstehen Edelsteine und wie fühlen sie sich an? In dieser
  Mitmachaktion werden Fundorte\, Merkmale und Bearbeitung von Mineralien a
 nschaulich erklärt. Der eigene Stein wird geschliffen – ein Erlebnis f
 ür Kinder ab 6 Jahren\, Jugendliche und Erwachsene.
URL:https://www.meinplaner.com
DTSTART;TZID=Europe/Amsterdam:20260424T100000
DTEND;TZID=Europe/Amsterdam:20260424T161500
LOCATION:Thumer Str.  71\, 09468 Geyer
BEGIN:VALARM
ACTION:DISPLAY
DESCRIPTION:Erinnerung: Edelsteine selbst schleifen und polieren beginnt in
  1 Stunde
TRIGGER;RELATED=END:-PT1H
END:VALARM
END:VEVENT
END:VCALENDAR
