BEGIN:VCALENDAR
PRODID:-//eluceo/ical//2.0/EN
VERSION:2.0
CALSCALE:GREGORIAN
BEGIN:VEVENT
UID:aa7cb0d52b34a933957993207337e4eb
DTSTAMP:20260426T013421Z
SUMMARY:Moby Dick
DESCRIPTION:Ismael träumt vom Meer und heuert auf der „Pequod“ an. Doc
 h die Reise wird zur Jagd auf Moby Dick: Kapitän Ahab treibt die Crew mit
  blindem Rachedurst an. Melvilles Klassiker verbindet Abenteuer mit existe
 nziellen Fragen über Mensch\, Natur und innere Abgründe.
URL:https://www.meinplaner.com
DTSTART;TZID=Europe/Amsterdam:20260502T193000
DTEND;TZID=Europe/Amsterdam:20260502T213000
LOCATION:Borngasse 1\, 09599 Freiberg
BEGIN:VALARM
ACTION:DISPLAY
DESCRIPTION:Erinnerung: Moby Dick beginnt in 1 Stunde
TRIGGER;RELATED=END:-PT1H
END:VALARM
END:VEVENT
END:VCALENDAR
