BEGIN:VCALENDAR
PRODID:-//eluceo/ical//2.0/EN
VERSION:2.0
CALSCALE:GREGORIAN
BEGIN:VEVENT
UID:45fe11241b4a8502bd42c262ee1dd977
DTSTAMP:20260422T103004Z
SUMMARY:Techniksprechstunde für Senior*innen
DESCRIPTION:Mit sicherem Umgang moderner Technik aktiv bleiben: Im Lehngeri
 cht erhalten Senior*innen einmal monatlich eine 90-minütige Beratung zu S
 martphones\, Tablets und digitalen Themen – individuell und praxisnah.
URL:https://www.meinplaner.com
DTSTART;TZID=Europe/Amsterdam:20260511T140000
DTEND;TZID=Europe/Amsterdam:20260511T153000
LOCATION:Markt 14\, 09573 Augustusburg
BEGIN:VALARM
ACTION:DISPLAY
DESCRIPTION:Erinnerung: Techniksprechstunde für Senior*innen beginnt in 1 
 Stunde
TRIGGER;RELATED=END:-PT1H
END:VALARM
END:VEVENT
END:VCALENDAR
