BEGIN:VCALENDAR
PRODID:-//eluceo/ical//2.0/EN
VERSION:2.0
CALSCALE:GREGORIAN
BEGIN:VEVENT
UID:958b7e26b81277e8d30c90d6e478228b
DTSTAMP:20260420T150130Z
SUMMARY:Horst Schlämmer sucht das Glück
DESCRIPTION:Horst Schlämmer\, stellv. Chefredakteur des "Grevenbroicher Ta
 gblatt"\, begibt sich auf eine abenteuerliche Reise durch Deutschland\, um
  das Lächeln der Menschen zurückzubringen\, während er Passanten\, Prom
 is und Psychologen nach dem Geheimnis des Glücks befragt.
URL:https://www.meinplaner.com
DTSTART;TZID=Europe/Amsterdam:20260420T174500
DTEND;TZID=Europe/Amsterdam:20260420T194500
LOCATION:Poetenweg 6-8\, 08056 Zwickau
BEGIN:VALARM
ACTION:DISPLAY
DESCRIPTION:Erinnerung: Horst Schlämmer sucht das Glück beginnt in 1 Stun
 de
TRIGGER;RELATED=END:-PT1H
END:VALARM
END:VEVENT
BEGIN:VEVENT
UID:74122459fca24fdcc9b880e9e83ae4ee
DTSTAMP:20260420T150130Z
SUMMARY:Horst Schlämmer sucht das Glück
DESCRIPTION:Horst Schlämmer\, stellv. Chefredakteur des "Grevenbroicher Ta
 gblatt"\, begibt sich auf eine abenteuerliche Reise durch Deutschland\, um
  das Lächeln der Menschen zurückzubringen\, während er Passanten\, Prom
 is und Psychologen nach dem Geheimnis des Glücks befragt.
URL:https://www.meinplaner.com
DTSTART;TZID=Europe/Amsterdam:20260420T150000
DTEND;TZID=Europe/Amsterdam:20260420T170000
LOCATION:Poetenweg 6-8\, 08056 Zwickau
BEGIN:VALARM
ACTION:DISPLAY
DESCRIPTION:Erinnerung: Horst Schlämmer sucht das Glück beginnt in 1 Stun
 de
TRIGGER;RELATED=END:-PT1H
END:VALARM
END:VEVENT
BEGIN:VEVENT
UID:da74402cc65be01be0c948bb64845d06
DTSTAMP:20260420T150130Z
SUMMARY:Horst Schlämmer sucht das Glück
DESCRIPTION:Horst Schlämmer\, stellv. Chefredakteur des "Grevenbroicher Ta
 gblatt"\, begibt sich auf eine abenteuerliche Reise durch Deutschland\, um
  das Lächeln der Menschen zurückzubringen\, während er Passanten\, Prom
 is und Psychologen nach dem Geheimnis des Glücks befragt.
URL:https://www.meinplaner.com
DTSTART;TZID=Europe/Amsterdam:20260420T200500
DTEND;TZID=Europe/Amsterdam:20260420T220500
LOCATION:Poetenweg 6-8\, 08056 Zwickau
BEGIN:VALARM
ACTION:DISPLAY
DESCRIPTION:Erinnerung: Horst Schlämmer sucht das Glück beginnt in 1 Stun
 de
TRIGGER;RELATED=END:-PT1H
END:VALARM
END:VEVENT
END:VCALENDAR
