BEGIN:VCALENDAR
PRODID:-//eluceo/ical//2.0/EN
VERSION:2.0
CALSCALE:GREGORIAN
BEGIN:VEVENT
UID:7d5246f965c9b2ea4d22de1b77b24ce0
DTSTAMP:20260422T132905Z
SUMMARY:Junge und kreative Küche
DESCRIPTION:Im eleganten und stilvollem Restaurant mit integrierter Hotelba
 r entspannt man sich zusammen mit Freunden oder Geschäftspartnern bei ein
 em Cocktail oder bei neu interpretierten deutschen und internationalen Ger
 ichten.
URL:https://www.meinplaner.com
DTSTART;TZID=Europe/Amsterdam:20260422T170000
DTEND;TZID=Europe/Amsterdam:20260423T000000
LOCATION:Kornmarkt 9\, 08056 Zwickau
BEGIN:VALARM
ACTION:DISPLAY
DESCRIPTION:Erinnerung: Junge und kreative Küche beginnt in 1 Stunde
TRIGGER;RELATED=END:-PT1H
END:VALARM
END:VEVENT
END:VCALENDAR
