BEGIN:VCALENDAR
PRODID:-//eluceo/ical//2.0/EN
VERSION:2.0
CALSCALE:GREGORIAN
BEGIN:VEVENT
UID:de2382dcd69ab14b48f4db262a93d7d2
DTSTAMP:20260423T004031Z
SUMMARY:Horst Schlämmer sucht das Glück
DESCRIPTION:Horst Schlämmer\, stellv. Chefredakteur des "Grevenbroicher Ta
 gblatt"\, begibt sich auf eine abenteuerliche Reise durch Deutschland\, um
  das Lächeln der Menschen zurückzubringen\, während er Passanten\, Prom
 is und Psychologen nach dem Geheimnis des Glücks befragt.
URL:https://www.meinplaner.com
DTSTART;TZID=Europe/Amsterdam:20260423T174500
DTEND;TZID=Europe/Amsterdam:20260423T194500
LOCATION:Buchholzer Str. 10\, 09456 Annaberg-Buchholz
BEGIN:VALARM
ACTION:DISPLAY
DESCRIPTION:Erinnerung: Horst Schlämmer sucht das Glück beginnt in 1 Stun
 de
TRIGGER;RELATED=END:-PT1H
END:VALARM
END:VEVENT
BEGIN:VEVENT
UID:f75038b9b156f3e6f1d22a47e92eef2e
DTSTAMP:20260423T004031Z
SUMMARY:Horst Schlämmer sucht das Glück
DESCRIPTION:Horst Schlämmer\, stellv. Chefredakteur des "Grevenbroicher Ta
 gblatt"\, begibt sich auf eine abenteuerliche Reise durch Deutschland\, um
  das Lächeln der Menschen zurückzubringen\, während er Passanten\, Prom
 is und Psychologen nach dem Geheimnis des Glücks befragt.
URL:https://www.meinplaner.com
DTSTART;TZID=Europe/Amsterdam:20260423T174500
DTEND;TZID=Europe/Amsterdam:20260423T194500
LOCATION:Buchholzer Str. 10\, 09456 Annaberg-Buchholz
BEGIN:VALARM
ACTION:DISPLAY
DESCRIPTION:Erinnerung: Horst Schlämmer sucht das Glück beginnt in 1 Stun
 de
TRIGGER;RELATED=END:-PT1H
END:VALARM
END:VEVENT
END:VCALENDAR
