BEGIN:VCALENDAR
PRODID:-//eluceo/ical//2.0/EN
VERSION:2.0
CALSCALE:GREGORIAN
BEGIN:VEVENT
UID:f4322d2ecbcbaf90962a2c434abc332d
DTSTAMP:20260422T054454Z
SUMMARY:Onkelz Nacht Burgstädt
DESCRIPTION:Onkelz Nacht Open Air in Burgstädt: Exituz28 feiern 15 Jahre L
 eidenschaft für Böhse Onkelz. Energiegeladene Show\, starke Riffs und 10
 0 % Onkelz-Sound sorgen für eine intensive Rocknacht unter freiem Himmel.
URL:https://www.meinplaner.com
DTSTART;TZID=Europe/Amsterdam:20260620T190000
DTEND;TZID=Europe/Amsterdam:20260621T000000
LOCATION:Hainstr. \, 09217 Burgstädt
BEGIN:VALARM
ACTION:DISPLAY
DESCRIPTION:Erinnerung: Onkelz Nacht Burgstädt beginnt in 1 Stunde
TRIGGER;RELATED=END:-PT1H
END:VALARM
END:VEVENT
END:VCALENDAR
