BEGIN:VCALENDAR
PRODID:-//eluceo/ical//2.0/EN
VERSION:2.0
CALSCALE:GREGORIAN
BEGIN:VEVENT
UID:9b99bfc64b7de776e51bb8df7dbc6cfe
DTSTAMP:20260425T155059Z
SUMMARY:Ausstellung: das ist UNSERE Welt
DESCRIPTION:Seit über 20 Jahren leitet die Künstlerin Doreen Fiedler Mal-
  & Aquarellkurse.  Aus intensiver gemeinsamer Arbeit entstanden vielfälti
 ge Werke – von Landschaften bis Experimenten mit Acryl\, Tusche &Holz. D
 ie Ausstellung zeigt ausgewählte Ergebnisse
URL:https://www.meinplaner.com
DTSTART;TZID=Europe/Amsterdam:20260425T130000
DTEND;TZID=Europe/Amsterdam:20260425T170000
LOCATION:Ratsseite-Rathausstr. 10\, 09496 Marienberg
BEGIN:VALARM
ACTION:DISPLAY
DESCRIPTION:Erinnerung: Ausstellung: das ist UNSERE Welt beginnt in 1 Stund
 e
TRIGGER;RELATED=END:-PT1H
END:VALARM
END:VEVENT
END:VCALENDAR
