BEGIN:VCALENDAR
PRODID:-//eluceo/ical//2.0/EN
VERSION:2.0
CALSCALE:GREGORIAN
BEGIN:VEVENT
UID:83c966f03b29dd13f9342d4c29c04c97
DTSTAMP:20260424T012008Z
SUMMARY:Füße in den Sand\, Drink in die Hand - Citystrand
DESCRIPTION:Kurzurlaub nach Dienstende\, Füße in den Sand graben\, Drink 
 in der Hand\, dem Fluss lauschen. Möglich am Uferstrand\, direkt am Chemn
 itzfluss gelegen\, mitten in der Stadt und doch ein Rückzugsort.  In Lieg
 estühlen\, Strandkörben oder die sonnengeschützte Lounges.
URL:https://www.meinplaner.com
DTSTART;TZID=Europe/Amsterdam:20260424T160000
DTEND;TZID=Europe/Amsterdam:20260424T230000
LOCATION:Falkestr. 2\, 09111 Chemnitz
BEGIN:VALARM
ACTION:DISPLAY
DESCRIPTION:Erinnerung: Füße in den Sand\, Drink in die Hand - Citystrand
  beginnt in 1 Stunde
TRIGGER;RELATED=END:-PT1H
END:VALARM
END:VEVENT
END:VCALENDAR
