BEGIN:VCALENDAR
PRODID:-//eluceo/ical//2.0/EN
VERSION:2.0
CALSCALE:GREGORIAN
BEGIN:VEVENT
UID:f18066d54540fafa7997a47ef25fa614
DTSTAMP:20260421T183301Z
SUMMARY:Eisspezialitäten
DESCRIPTION:24 Sorten hausgemachtes Eis und kreative Eisbecher wie der „H
 enry van de Velde“ oder das „Chemnitzer Früchtchen“ sorgen für bes
 ondere Genussmomente. Perfekt für eine süße Auszeit.
URL:https://www.meinplaner.com
DTSTART;TZID=Europe/Amsterdam:20260421T090000
DTEND;TZID=Europe/Amsterdam:20260421T200000
LOCATION:Düsseldorfer Platz 1\, 09111 Chemnitz
BEGIN:VALARM
ACTION:DISPLAY
DESCRIPTION:Erinnerung: Eisspezialitäten beginnt in 1 Stunde
TRIGGER;RELATED=END:-PT1H
END:VALARM
END:VEVENT
END:VCALENDAR
