BEGIN:VCALENDAR
PRODID:-//eluceo/ical//2.0/EN
VERSION:2.0
CALSCALE:GREGORIAN
BEGIN:VEVENT
UID:66baaa324bd5a3a067a8fbf659dd8012
DTSTAMP:20260423T041335Z
SUMMARY:Nacht im Klein-Erzgebirge
DESCRIPTION:Die Besucher können das einmalige Ambiente der Miniaturen im L
 ichterglanz und Fackelschein erleben.
URL:https://www.meinplaner.com
DTSTART;TZID=Europe/Amsterdam:20260801T190000
DTEND;TZID=Europe/Amsterdam:20260801T230000
LOCATION:Gerichtsstr. 5\, 09569 Oederan
BEGIN:VALARM
ACTION:DISPLAY
DESCRIPTION:Erinnerung: Nacht im Klein-Erzgebirge beginnt in 1 Stunde
TRIGGER;RELATED=END:-PT1H
END:VALARM
END:VEVENT
END:VCALENDAR
