BEGIN:VCALENDAR
PRODID:-//eluceo/ical//2.0/EN
VERSION:2.0
CALSCALE:GREGORIAN
BEGIN:VEVENT
UID:0fd85cedaecc345df53cfe85a39cdabb
DTSTAMP:20260425T124609Z
SUMMARY:tief gestimmt... böhmisch melancholisch
DESCRIPTION:In diesem Konzert präsentieren der Kontrabassist Hans-Christia
 n Rautengarten und die Pianistin Annegret Neumann Werke böhmischer Kompon
 isten des frühen 20. Jahrhunderts\, ergänzt von Wolf-Eike Bartels mit Ge
 dichten und Texten aus deren Umfeld.
URL:https://www.meinplaner.com
DTSTART;TZID=Europe/Amsterdam:20260519T193000
DTEND;TZID=Europe/Amsterdam:20260519T213000
LOCATION:Anton-Günther-Weg 4\, 09496 Marienberg
BEGIN:VALARM
ACTION:DISPLAY
DESCRIPTION:Erinnerung: tief gestimmt... böhmisch melancholisch beginnt in
  1 Stunde
TRIGGER;RELATED=END:-PT1H
END:VALARM
END:VEVENT
END:VCALENDAR
