BEGIN:VCALENDAR
PRODID:-//eluceo/ical//2.0/EN
VERSION:2.0
CALSCALE:GREGORIAN
BEGIN:VEVENT
UID:7796b6eaea5b94f1f771fda8c1c0ebd2
DTSTAMP:20260423T213127Z
SUMMARY:Angebote mumm Fitness
DESCRIPTION:In den modernen und angenehmen Räumlichkeiten geht es um das T
 raining von Muskeln & Ausdauer und gleichzeitig um Gesundheit als Basis f
 ür einen kraftvollen Körper. 
URL:https://www.meinplaner.com
DTSTART;TZID=Europe/Amsterdam:20260424T090000
DTEND;TZID=Europe/Amsterdam:20260424T220000
LOCATION:Meißner Ring 6\, 09599 Freiberg
BEGIN:VALARM
ACTION:DISPLAY
DESCRIPTION:Erinnerung: Angebote mumm Fitness beginnt in 1 Stunde
TRIGGER;RELATED=END:-PT1H
END:VALARM
END:VEVENT
END:VCALENDAR
