BEGIN:VCALENDAR
PRODID:-//eluceo/ical//2.0/EN
VERSION:2.0
CALSCALE:GREGORIAN
BEGIN:VEVENT
UID:83179c51032942735dbaa7e1bae59fdc
DTSTAMP:20260421T190727Z
SUMMARY:Kinder-Töpferkurs
DESCRIPTION:Dem Klumpen Ton eine schöne Form geben - das ist gar nicht so 
 einfach. In diesem Kurs erhalten Teilnehmende unter fachmännischer Betreu
 ung alle Infos dazu\, wie das funktioniert. Und wer es selbst schafft\, de
 r wird seine große Freude daran haben!
URL:https://www.meinplaner.com
DTSTART;TZID=Europe/Amsterdam:20260509T100000
DTEND;TZID=Europe/Amsterdam:20260509T120000
LOCATION:Str. der Nationen  92\, 09111 Chemnitz
BEGIN:VALARM
ACTION:DISPLAY
DESCRIPTION:Erinnerung: Kinder-Töpferkurs beginnt in 1 Stunde
TRIGGER;RELATED=END:-PT1H
END:VALARM
END:VEVENT
END:VCALENDAR
