BEGIN:VCALENDAR
PRODID:-//eluceo/ical//2.0/EN
VERSION:2.0
CALSCALE:GREGORIAN
BEGIN:VEVENT
UID:30cd5d4ebb522b38cd5ca81b4e5d4dbd
DTSTAMP:20260423T183822Z
SUMMARY:Peterchens Mondfahrt
DESCRIPTION:Maikäfer Sumsemann fehlt ein Beinchen. Gemeinsam mit Peterchen
  und Anneliese geht er auf eine lange Reise in den Weltraum\, um sein Bein
  wiederzufinden. Ein Sternenmärchen für Kinder ab 4 Jahre.
URL:https://www.meinplaner.com
DTSTART;TZID=Europe/Amsterdam:20260425T160000
DTEND;TZID=Europe/Amsterdam:20260425T180000
LOCATION:Milchstr. 1\, 09430 Drebach
BEGIN:VALARM
ACTION:DISPLAY
DESCRIPTION:Erinnerung: Peterchens Mondfahrt beginnt in 1 Stunde
TRIGGER;RELATED=END:-PT1H
END:VALARM
END:VEVENT
END:VCALENDAR
